BEGIN:VCALENDAR
VERSION:2.0
PRODID:-//eventon.com NONSGML v1.0//EN
BEGIN:VEVENT
UID:69e6143b1548f
DTSTAMP:20260420T045539
DTSTART:20240927T000000Z
DTEND:20240927T050000Z
TZID:America/Los_Angeles
LOCATION:
SUMMARY:Thursday Night Football
DESCRIPTION: Thursday Night Football\nhttps://www.althewops.com/events/thursday-night-football/var/ri-2.l-L1
URL:https://www.althewops.com/events/thursday-night-football/var/ri-2.l-L1
END:VEVENT
END:VCALENDAR