BEGIN:VCALENDAR
VERSION:2.0
PRODID:-//eventon.com NONSGML v1.0//EN
BEGIN:VEVENT
UID:69e6270b50aed
DTSTAMP:20260420T061555
DTSTART:20240909T000000Z
DTEND:20240909T050000Z
TZID:America/Los_Angeles
LOCATION:
SUMMARY:Sunday All Day Football
DESCRIPTION: Sunday All Day Football\nhttps://www.althewops.com/events/sunday-night-football/
URL:https://www.althewops.com/events/sunday-night-football/
END:VEVENT
END:VCALENDAR