BEGIN:VCALENDAR
VERSION:2.0
PRODID:-//eventon.com NONSGML v1.0//EN
BEGIN:VEVENT
UID:69e63b7b64f81
DTSTAMP:20260420T074307
DTSTART:20231213
DTEND:20231214
TZID:America/Los_Angeles
LOCATION:
SUMMARY:Closed for Private Party until 5PM - open as usual for the evening
DESCRIPTION: Closed for Private Party until 5PM - open as usual for the evening\nhttps://www.althewops.com/events/closed-for-private-party/
URL:https://www.althewops.com/events/closed-for-private-party/
END:VEVENT
END:VCALENDAR